BEGIN:VCALENDAR
VERSION:2.0
PRODID:-//Sex Ed Lecture Series - ECPv6.15.20//NONSGML v1.0//EN
CALSCALE:GREGORIAN
METHOD:PUBLISH
X-ORIGINAL-URL:https://sexedlectures.org
X-WR-CALDESC:Events for Sex Ed Lecture Series
REFRESH-INTERVAL;VALUE=DURATION:PT1H
X-Robots-Tag:noindex
X-PUBLISHED-TTL:PT1H
BEGIN:VTIMEZONE
TZID:America/New_York
BEGIN:DAYLIGHT
TZOFFSETFROM:-0500
TZOFFSETTO:-0400
TZNAME:EDT
DTSTART:20250309T070000
END:DAYLIGHT
BEGIN:STANDARD
TZOFFSETFROM:-0400
TZOFFSETTO:-0500
TZNAME:EST
DTSTART:20251102T060000
END:STANDARD
BEGIN:DAYLIGHT
TZOFFSETFROM:-0500
TZOFFSETTO:-0400
TZNAME:EDT
DTSTART:20260308T070000
END:DAYLIGHT
BEGIN:STANDARD
TZOFFSETFROM:-0400
TZOFFSETTO:-0500
TZNAME:EST
DTSTART:20261101T060000
END:STANDARD
BEGIN:DAYLIGHT
TZOFFSETFROM:-0500
TZOFFSETTO:-0400
TZNAME:EDT
DTSTART:20270314T070000
END:DAYLIGHT
BEGIN:STANDARD
TZOFFSETFROM:-0400
TZOFFSETTO:-0500
TZNAME:EST
DTSTART:20271107T060000
END:STANDARD
END:VTIMEZONE
BEGIN:VEVENT
DTSTART;TZID=America/New_York:20260901T190000
DTEND;TZID=America/New_York:20260901T203000
DTSTAMP:20260423T100243
CREATED:20260417T220307Z
LAST-MODIFIED:20260417T220307Z
UID:2894-1788289200-1788294600@sexedlectures.org
SUMMARY:Certificate Program in Sexuality Education and Consent: Core Concepts\, Frameworks\, and Teaching Tools for Instructors
DESCRIPTION:The Certificate Program in Sexuality Education and Consent explores the concepts of consent and body autonomy and their foundational importance to sexuality education. Learners will explore the many facets of and approaches to these concepts\, as well as how to teach about consent and build a consent-based education practice. \nWe will cover age- and developmentally-appropriate ways to teach about consent to young children\, teens\, college students\, and other adults. We will also discuss training parents/caregivers and teachers on practicing consent with the young people they support. Participants will receive 12 hours of (virtual) live and interactive lectures and discussions as well as 12 hours of pre-recorded content with the instructor and other experts.
URL:https://sexedlectures.org/calendar/certificate-program-in-sexuality-education-and-consent-core-concepts-frameworks-and-teaching-tools-for-instructors-17/
CATEGORIES:Certificate Program
ORGANIZER;CN="SELS":MAILTO:info@sexedlectures.org
END:VEVENT
BEGIN:VEVENT
DTSTART;TZID=America/New_York:20260903T190000
DTEND;TZID=America/New_York:20260903T203000
DTSTAMP:20260423T100243
CREATED:20260417T220308Z
LAST-MODIFIED:20260417T220308Z
UID:2895-1788462000-1788467400@sexedlectures.org
SUMMARY:Certificate Program in Sexuality Education and Consent: Core Concepts\, Frameworks\, and Teaching Tools for Instructors
DESCRIPTION:The Certificate Program in Sexuality Education and Consent explores the concepts of consent and body autonomy and their foundational importance to sexuality education. Learners will explore the many facets of and approaches to these concepts\, as well as how to teach about consent and build a consent-based education practice. \nWe will cover age- and developmentally-appropriate ways to teach about consent to young children\, teens\, college students\, and other adults. We will also discuss training parents/caregivers and teachers on practicing consent with the young people they support. Participants will receive 12 hours of (virtual) live and interactive lectures and discussions as well as 12 hours of pre-recorded content with the instructor and other experts.
URL:https://sexedlectures.org/calendar/certificate-program-in-sexuality-education-and-consent-core-concepts-frameworks-and-teaching-tools-for-instructors-18/
CATEGORIES:Certificate Program
ORGANIZER;CN="SELS":MAILTO:info@sexedlectures.org
END:VEVENT
BEGIN:VEVENT
DTSTART;TZID=America/New_York:20260908T190000
DTEND;TZID=America/New_York:20260908T203000
DTSTAMP:20260423T100243
CREATED:20260417T220308Z
LAST-MODIFIED:20260417T220308Z
UID:2896-1788894000-1788899400@sexedlectures.org
SUMMARY:Certificate Program in Sexuality Education and Consent: Core Concepts\, Frameworks\, and Teaching Tools for Instructors
DESCRIPTION:The Certificate Program in Sexuality Education and Consent explores the concepts of consent and body autonomy and their foundational importance to sexuality education. Learners will explore the many facets of and approaches to these concepts\, as well as how to teach about consent and build a consent-based education practice. \nWe will cover age- and developmentally-appropriate ways to teach about consent to young children\, teens\, college students\, and other adults. We will also discuss training parents/caregivers and teachers on practicing consent with the young people they support. Participants will receive 12 hours of (virtual) live and interactive lectures and discussions as well as 12 hours of pre-recorded content with the instructor and other experts.
URL:https://sexedlectures.org/calendar/certificate-program-in-sexuality-education-and-consent-core-concepts-frameworks-and-teaching-tools-for-instructors-19/
CATEGORIES:Certificate Program
ORGANIZER;CN="SELS":MAILTO:info@sexedlectures.org
END:VEVENT
BEGIN:VEVENT
DTSTART;TZID=America/New_York:20260910T190000
DTEND;TZID=America/New_York:20260910T203000
DTSTAMP:20260423T100243
CREATED:20260417T220308Z
LAST-MODIFIED:20260417T220308Z
UID:2897-1789066800-1789072200@sexedlectures.org
SUMMARY:Certificate Program in Sexuality Education and Consent: Core Concepts\, Frameworks\, and Teaching Tools for Instructors
DESCRIPTION:The Certificate Program in Sexuality Education and Consent explores the concepts of consent and body autonomy and their foundational importance to sexuality education. Learners will explore the many facets of and approaches to these concepts\, as well as how to teach about consent and build a consent-based education practice. \nWe will cover age- and developmentally-appropriate ways to teach about consent to young children\, teens\, college students\, and other adults. We will also discuss training parents/caregivers and teachers on practicing consent with the young people they support. Participants will receive 12 hours of (virtual) live and interactive lectures and discussions as well as 12 hours of pre-recorded content with the instructor and other experts.
URL:https://sexedlectures.org/calendar/certificate-program-in-sexuality-education-and-consent-core-concepts-frameworks-and-teaching-tools-for-instructors-20/
CATEGORIES:Certificate Program
ORGANIZER;CN="SELS":MAILTO:info@sexedlectures.org
END:VEVENT
BEGIN:VEVENT
DTSTART;TZID=America/New_York:20260915T190000
DTEND;TZID=America/New_York:20260915T203000
DTSTAMP:20260423T100243
CREATED:20260417T220308Z
LAST-MODIFIED:20260417T220308Z
UID:2898-1789498800-1789504200@sexedlectures.org
SUMMARY:Certificate Program in Sexuality Education and Consent: Core Concepts\, Frameworks\, and Teaching Tools for Instructors
DESCRIPTION:The Certificate Program in Sexuality Education and Consent explores the concepts of consent and body autonomy and their foundational importance to sexuality education. Learners will explore the many facets of and approaches to these concepts\, as well as how to teach about consent and build a consent-based education practice. \nWe will cover age- and developmentally-appropriate ways to teach about consent to young children\, teens\, college students\, and other adults. We will also discuss training parents/caregivers and teachers on practicing consent with the young people they support. Participants will receive 12 hours of (virtual) live and interactive lectures and discussions as well as 12 hours of pre-recorded content with the instructor and other experts.
URL:https://sexedlectures.org/calendar/certificate-program-in-sexuality-education-and-consent-core-concepts-frameworks-and-teaching-tools-for-instructors-21/
CATEGORIES:Certificate Program
ORGANIZER;CN="SELS":MAILTO:info@sexedlectures.org
END:VEVENT
BEGIN:VEVENT
DTSTART;TZID=America/New_York:20260917T190000
DTEND;TZID=America/New_York:20260917T203000
DTSTAMP:20260423T100243
CREATED:20260417T220311Z
LAST-MODIFIED:20260417T220311Z
UID:2899-1789671600-1789677000@sexedlectures.org
SUMMARY:Certificate Program in Sexuality Education and Consent: Core Concepts\, Frameworks\, and Teaching Tools for Instructors
DESCRIPTION:The Certificate Program in Sexuality Education and Consent explores the concepts of consent and body autonomy and their foundational importance to sexuality education. Learners will explore the many facets of and approaches to these concepts\, as well as how to teach about consent and build a consent-based education practice. \nWe will cover age- and developmentally-appropriate ways to teach about consent to young children\, teens\, college students\, and other adults. We will also discuss training parents/caregivers and teachers on practicing consent with the young people they support. Participants will receive 12 hours of (virtual) live and interactive lectures and discussions as well as 12 hours of pre-recorded content with the instructor and other experts.
URL:https://sexedlectures.org/calendar/certificate-program-in-sexuality-education-and-consent-core-concepts-frameworks-and-teaching-tools-for-instructors-22/
CATEGORIES:Certificate Program
ORGANIZER;CN="SELS":MAILTO:info@sexedlectures.org
END:VEVENT
BEGIN:VEVENT
DTSTART;TZID=America/New_York:20260922T190000
DTEND;TZID=America/New_York:20260922T203000
DTSTAMP:20260423T100243
CREATED:20260417T220311Z
LAST-MODIFIED:20260417T220311Z
UID:2900-1790103600-1790109000@sexedlectures.org
SUMMARY:Certificate Program in Sexuality Education and Consent: Core Concepts\, Frameworks\, and Teaching Tools for Instructors
DESCRIPTION:The Certificate Program in Sexuality Education and Consent explores the concepts of consent and body autonomy and their foundational importance to sexuality education. Learners will explore the many facets of and approaches to these concepts\, as well as how to teach about consent and build a consent-based education practice. \nWe will cover age- and developmentally-appropriate ways to teach about consent to young children\, teens\, college students\, and other adults. We will also discuss training parents/caregivers and teachers on practicing consent with the young people they support. Participants will receive 12 hours of (virtual) live and interactive lectures and discussions as well as 12 hours of pre-recorded content with the instructor and other experts.
URL:https://sexedlectures.org/calendar/certificate-program-in-sexuality-education-and-consent-core-concepts-frameworks-and-teaching-tools-for-instructors-23/
CATEGORIES:Certificate Program
ORGANIZER;CN="SELS":MAILTO:info@sexedlectures.org
END:VEVENT
BEGIN:VEVENT
DTSTART;TZID=America/New_York:20260924T190000
DTEND;TZID=America/New_York:20260924T203000
DTSTAMP:20260423T100243
CREATED:20260417T220311Z
LAST-MODIFIED:20260417T220311Z
UID:2901-1790276400-1790281800@sexedlectures.org
SUMMARY:Certificate Program in Sexuality Education and Consent: Core Concepts\, Frameworks\, and Teaching Tools for Instructors
DESCRIPTION:The Certificate Program in Sexuality Education and Consent explores the concepts of consent and body autonomy and their foundational importance to sexuality education. Learners will explore the many facets of and approaches to these concepts\, as well as how to teach about consent and build a consent-based education practice. \nWe will cover age- and developmentally-appropriate ways to teach about consent to young children\, teens\, college students\, and other adults. We will also discuss training parents/caregivers and teachers on practicing consent with the young people they support. Participants will receive 12 hours of (virtual) live and interactive lectures and discussions as well as 12 hours of pre-recorded content with the instructor and other experts.
URL:https://sexedlectures.org/calendar/certificate-program-in-sexuality-education-and-consent-core-concepts-frameworks-and-teaching-tools-for-instructors-24/
CATEGORIES:Certificate Program
ORGANIZER;CN="SELS":MAILTO:info@sexedlectures.org
END:VEVENT
END:VCALENDAR