BEGIN:VCALENDAR
VERSION:2.0
PRODID:-//Sex Ed Lecture Series - ECPv6.15.20//NONSGML v1.0//EN
CALSCALE:GREGORIAN
METHOD:PUBLISH
X-WR-CALNAME:Sex Ed Lecture Series
X-ORIGINAL-URL:https://sexedlectures.org
X-WR-CALDESC:Events for Sex Ed Lecture Series
REFRESH-INTERVAL;VALUE=DURATION:PT1H
X-Robots-Tag:noindex
X-PUBLISHED-TTL:PT1H
BEGIN:VTIMEZONE
TZID:America/New_York
BEGIN:DAYLIGHT
TZOFFSETFROM:-0500
TZOFFSETTO:-0400
TZNAME:EDT
DTSTART:20250309T070000
END:DAYLIGHT
BEGIN:STANDARD
TZOFFSETFROM:-0400
TZOFFSETTO:-0500
TZNAME:EST
DTSTART:20251102T060000
END:STANDARD
BEGIN:DAYLIGHT
TZOFFSETFROM:-0500
TZOFFSETTO:-0400
TZNAME:EDT
DTSTART:20260308T070000
END:DAYLIGHT
BEGIN:STANDARD
TZOFFSETFROM:-0400
TZOFFSETTO:-0500
TZNAME:EST
DTSTART:20261101T060000
END:STANDARD
BEGIN:DAYLIGHT
TZOFFSETFROM:-0500
TZOFFSETTO:-0400
TZNAME:EDT
DTSTART:20270314T070000
END:DAYLIGHT
BEGIN:STANDARD
TZOFFSETFROM:-0400
TZOFFSETTO:-0500
TZNAME:EST
DTSTART:20271107T060000
END:STANDARD
END:VTIMEZONE
BEGIN:VEVENT
DTSTART;VALUE=DATE:20260707
DTEND;VALUE=DATE:20260711
DTSTAMP:20260423T070501
CREATED:20260205T213407Z
LAST-MODIFIED:20260205T213407Z
UID:2694-1783382400-1783727999@sexedlectures.org
SUMMARY:Sex Ed Lecture Series Training Institute
DESCRIPTION:The Sex Ed Lecture Series Training Institute is a four-day\, practice-based experience for sexuality educators who want to strengthen core teaching skills\, build confidence\, and receive thoughtful\, constructive feedback on their facilitation. \nDesigned with early-career educators in mind\, the Institute also welcomes experienced professionals seeking a structured refresher\, dedicated practice time\, and space to reflect on their teaching alongside peers. \nAcross two full days and two half days\, participants take part in interactive workshops\, small-group practice sessions\, and guided reflection led by experienced trainers serving as faculty. The emphasis throughout is on real-world teaching: practicing core skills\, refining language\, navigating complex classroom dynamics\, and learning how to engage learners who may be hesitant or resistant. \nA limited number of participants may choose to serve as small-group facilitators\, a leadership role that includes additional practice\, responsibility\, and a discounted registration rate. \nMeals are included for all participants. Lodging options include single rooms and a limited number of discounted shared rooms; commuter registration is also available.
URL:https://sexedlectures.org/calendar/sex-ed-lecture-series-training-institute/
LOCATION:Pendle Hill Retreat Center\, Wallingford\, PA\, United States
CATEGORIES:Retreat
ATTACH;FMTTYPE=image/png:https://sexedlectures.org/wp-content/uploads/2026/01/summer-institute.png
ORGANIZER;CN="SELS":MAILTO:info@sexedlectures.org
END:VEVENT
END:VCALENDAR