BEGIN:VCALENDAR
VERSION:2.0
PRODID:-//Sex Ed Lecture Series - ECPv6.15.20//NONSGML v1.0//EN
CALSCALE:GREGORIAN
METHOD:PUBLISH
X-WR-CALNAME:Sex Ed Lecture Series
X-ORIGINAL-URL:https://sexedlectures.org
X-WR-CALDESC:Events for Sex Ed Lecture Series
REFRESH-INTERVAL;VALUE=DURATION:PT1H
X-Robots-Tag:noindex
X-PUBLISHED-TTL:PT1H
BEGIN:VTIMEZONE
TZID:America/New_York
BEGIN:DAYLIGHT
TZOFFSETFROM:-0500
TZOFFSETTO:-0400
TZNAME:EDT
DTSTART:20250309T070000
END:DAYLIGHT
BEGIN:STANDARD
TZOFFSETFROM:-0400
TZOFFSETTO:-0500
TZNAME:EST
DTSTART:20251102T060000
END:STANDARD
BEGIN:DAYLIGHT
TZOFFSETFROM:-0500
TZOFFSETTO:-0400
TZNAME:EDT
DTSTART:20260308T070000
END:DAYLIGHT
BEGIN:STANDARD
TZOFFSETFROM:-0400
TZOFFSETTO:-0500
TZNAME:EST
DTSTART:20261101T060000
END:STANDARD
BEGIN:DAYLIGHT
TZOFFSETFROM:-0500
TZOFFSETTO:-0400
TZNAME:EDT
DTSTART:20270314T070000
END:DAYLIGHT
BEGIN:STANDARD
TZOFFSETFROM:-0400
TZOFFSETTO:-0500
TZNAME:EST
DTSTART:20271107T060000
END:STANDARD
END:VTIMEZONE
BEGIN:VEVENT
DTSTART;TZID=America/New_York:20260505T190000
DTEND;TZID=America/New_York:20260505T203000
DTSTAMP:20260423T042845
CREATED:20250808T154532Z
LAST-MODIFIED:20250808T154642Z
UID:1681-1778007600-1778013000@sexedlectures.org
SUMMARY:Certificate Program in Sexuality Education and Disability: Understanding Neurodiversity\, Intellectual Disabilities\, and Sexual Health
DESCRIPTION:This course explores sexuality\, identities\, sexual arousal\, response\, pleasure\, and relationships for individuals with neurodiversities and intellectual disabilities. It examines attitudes and beliefs about sexuality and people with disabilities and focuses on the benefits of sexuality education and the increased need for accessible knowledge in these populations. \nThe course covers working with parents and caregivers and provides participants with the skills to develop their own materials for working with these populations. Participants will receive 12 hours of (virtual) live and interactive lectures and discussions as well as 12 hours of pre-recorded content with the instructor and other participants.
URL:https://sexedlectures.org/calendar/certificate-program-in-sexuality-education-and-disability-understanding-neurodiversity-intellectual-disabilities-and-sexual-health/
CATEGORIES:Certificate Program
ORGANIZER;CN="SELS":MAILTO:info@sexedlectures.org
END:VEVENT
BEGIN:VEVENT
DTSTART;TZID=America/New_York:20260506T190000
DTEND;TZID=America/New_York:20260506T200000
DTSTAMP:20260423T042845
CREATED:20260220T222424Z
LAST-MODIFIED:20260220T222424Z
UID:2774-1778094000-1778097600@sexedlectures.org
SUMMARY:Navigating Sexual Self-Confidence From Adolescent To Adult
DESCRIPTION:The “Navigating Sexual Self-Confidence From Adolescent to Whole Ass Adult” workshop will provide an opportunity for participants to reflect on the harmful and often conflicting messages that young women of color are often subjected to\, in many circumstances as an attempt to keep them safe from sexual violence\, trauma and pain.
URL:https://sexedlectures.org/calendar/navigating-sexual-self-confidence-from-adolescent-to-adult/
CATEGORIES:Lecture
ATTACH;FMTTYPE=image/png:https://sexedlectures.org/wp-content/uploads/2026/02/5.6.26-Natoya-S.-Brown-.png
ORGANIZER;CN="SELS":MAILTO:info@sexedlectures.org
END:VEVENT
BEGIN:VEVENT
DTSTART;TZID=America/New_York:20260507T190000
DTEND;TZID=America/New_York:20260507T203000
DTSTAMP:20260423T042845
CREATED:20250808T154533Z
LAST-MODIFIED:20250808T154644Z
UID:1682-1778180400-1778185800@sexedlectures.org
SUMMARY:Certificate Program in Sexuality Education and Disability: Understanding Neurodiversity\, Intellectual Disabilities\, and Sexual Health
DESCRIPTION:This course explores sexuality\, identities\, sexual arousal\, response\, pleasure\, and relationships for individuals with neurodiversities and intellectual disabilities. It examines attitudes and beliefs about sexuality and people with disabilities and focuses on the benefits of sexuality education and the increased need for accessible knowledge in these populations. \nThe course covers working with parents and caregivers and provides participants with the skills to develop their own materials for working with these populations. Participants will receive 12 hours of (virtual) live and interactive lectures and discussions as well as 12 hours of pre-recorded content with the instructor and other participants.
URL:https://sexedlectures.org/calendar/certificate-program-in-sexuality-education-and-disability-understanding-neurodiversity-intellectual-disabilities-and-sexual-health-2/
CATEGORIES:Certificate Program
ORGANIZER;CN="SELS":MAILTO:info@sexedlectures.org
END:VEVENT
BEGIN:VEVENT
DTSTART;TZID=America/New_York:20260512T190000
DTEND;TZID=America/New_York:20260512T203000
DTSTAMP:20260423T042845
CREATED:20250808T154535Z
LAST-MODIFIED:20250808T154645Z
UID:1683-1778612400-1778617800@sexedlectures.org
SUMMARY:Certificate Program in Sexuality Education and Disability: Understanding Neurodiversity\, Intellectual Disabilities\, and Sexual Health
DESCRIPTION:This course explores sexuality\, identities\, sexual arousal\, response\, pleasure\, and relationships for individuals with neurodiversities and intellectual disabilities. It examines attitudes and beliefs about sexuality and people with disabilities and focuses on the benefits of sexuality education and the increased need for accessible knowledge in these populations. \nThe course covers working with parents and caregivers and provides participants with the skills to develop their own materials for working with these populations. Participants will receive 12 hours of (virtual) live and interactive lectures and discussions as well as 12 hours of pre-recorded content with the instructor and other participants.
URL:https://sexedlectures.org/calendar/certificate-program-in-sexuality-education-and-disability-understanding-neurodiversity-intellectual-disabilities-and-sexual-health-3/
CATEGORIES:Certificate Program
ORGANIZER;CN="SELS":MAILTO:info@sexedlectures.org
END:VEVENT
BEGIN:VEVENT
DTSTART;TZID=America/New_York:20260513T190000
DTEND;TZID=America/New_York:20260513T200000
DTSTAMP:20260423T042845
CREATED:20260220T222605Z
LAST-MODIFIED:20260220T222605Z
UID:2777-1778698800-1778702400@sexedlectures.org
SUMMARY:Confidence Is a Game: How Play Heals Shame
DESCRIPTION:This lecture explores how play creates safety\, curiosity\, and permission around sexual confidence. Using a real-world play-based activity as an example\, participants will learn how playful\, low-pressure environments reduce shame and support embodied sexual self-discovery.
URL:https://sexedlectures.org/calendar/confidence-is-a-game-how-play-heals-shame/
CATEGORIES:Lecture
ATTACH;FMTTYPE=image/png:https://sexedlectures.org/wp-content/uploads/2026/02/Bria-Price-5.13.26.png
ORGANIZER;CN="SELS":MAILTO:info@sexedlectures.org
END:VEVENT
BEGIN:VEVENT
DTSTART;TZID=America/New_York:20260514T190000
DTEND;TZID=America/New_York:20260514T203000
DTSTAMP:20260423T042845
CREATED:20250808T154536Z
LAST-MODIFIED:20250808T154646Z
UID:1684-1778785200-1778790600@sexedlectures.org
SUMMARY:Certificate Program in Sexuality Education and Disability: Understanding Neurodiversity\, Intellectual Disabilities\, and Sexual Health
DESCRIPTION:This course explores sexuality\, identities\, sexual arousal\, response\, pleasure\, and relationships for individuals with neurodiversities and intellectual disabilities. It examines attitudes and beliefs about sexuality and people with disabilities and focuses on the benefits of sexuality education and the increased need for accessible knowledge in these populations. \nThe course covers working with parents and caregivers and provides participants with the skills to develop their own materials for working with these populations. Participants will receive 12 hours of (virtual) live and interactive lectures and discussions as well as 12 hours of pre-recorded content with the instructor and other participants.
URL:https://sexedlectures.org/calendar/certificate-program-in-sexuality-education-and-disability-understanding-neurodiversity-intellectual-disabilities-and-sexual-health-4/
CATEGORIES:Certificate Program
ORGANIZER;CN="SELS":MAILTO:info@sexedlectures.org
END:VEVENT
BEGIN:VEVENT
DTSTART;TZID=America/New_York:20260519T190000
DTEND;TZID=America/New_York:20260519T203000
DTSTAMP:20260423T042845
CREATED:20250808T154547Z
LAST-MODIFIED:20250808T154647Z
UID:1686-1779217200-1779222600@sexedlectures.org
SUMMARY:Certificate Program in Sexuality Education and Disability: Understanding Neurodiversity\, Intellectual Disabilities\, and Sexual Health
DESCRIPTION:This course explores sexuality\, identities\, sexual arousal\, response\, pleasure\, and relationships for individuals with neurodiversities and intellectual disabilities. It examines attitudes and beliefs about sexuality and people with disabilities and focuses on the benefits of sexuality education and the increased need for accessible knowledge in these populations. \nThe course covers working with parents and caregivers and provides participants with the skills to develop their own materials for working with these populations. Participants will receive 12 hours of (virtual) live and interactive lectures and discussions as well as 12 hours of pre-recorded content with the instructor and other participants.
URL:https://sexedlectures.org/calendar/certificate-program-in-sexuality-education-and-disability-understanding-neurodiversity-intellectual-disabilities-and-sexual-health-5/
CATEGORIES:Certificate Program
ORGANIZER;CN="SELS":MAILTO:info@sexedlectures.org
END:VEVENT
BEGIN:VEVENT
DTSTART;TZID=America/New_York:20260520T190000
DTEND;TZID=America/New_York:20260520T200000
DTSTAMP:20260423T042845
CREATED:20260220T222824Z
LAST-MODIFIED:20260220T222824Z
UID:2779-1779303600-1779307200@sexedlectures.org
SUMMARY:Designing A Youth Sex Ed Curriculum from Scratch
DESCRIPTION:Tara brought together renowned sex educators to design a youth sex ed curriculum rooted in one question: What did we wish we’d known at that age? This session explores the curriculum’s pillars\, how today’s cultural landscape shaped it\, and navigating opt-in/opt-out alongside parents.
URL:https://sexedlectures.org/calendar/designing-a-youth-sex-ed-curriculum-from-scratch/
CATEGORIES:Lecture
ATTACH;FMTTYPE=image/png:https://sexedlectures.org/wp-content/uploads/2026/02/5.20.26-Tara-Jones.png
ORGANIZER;CN="SELS":MAILTO:info@sexedlectures.org
END:VEVENT
BEGIN:VEVENT
DTSTART;TZID=America/New_York:20260521T190000
DTEND;TZID=America/New_York:20260521T203000
DTSTAMP:20260423T042845
CREATED:20250808T154549Z
LAST-MODIFIED:20250808T154654Z
UID:1687-1779390000-1779395400@sexedlectures.org
SUMMARY:Certificate Program in Sexuality Education and Disability: Understanding Neurodiversity\, Intellectual Disabilities\, and Sexual Health
DESCRIPTION:This course explores sexuality\, identities\, sexual arousal\, response\, pleasure\, and relationships for individuals with neurodiversities and intellectual disabilities. It examines attitudes and beliefs about sexuality and people with disabilities and focuses on the benefits of sexuality education and the increased need for accessible knowledge in these populations. \nThe course covers working with parents and caregivers and provides participants with the skills to develop their own materials for working with these populations. Participants will receive 12 hours of (virtual) live and interactive lectures and discussions as well as 12 hours of pre-recorded content with the instructor and other participants.
URL:https://sexedlectures.org/calendar/certificate-program-in-sexuality-education-and-disability-understanding-neurodiversity-intellectual-disabilities-and-sexual-health-6/
CATEGORIES:Certificate Program
ORGANIZER;CN="SELS":MAILTO:info@sexedlectures.org
END:VEVENT
BEGIN:VEVENT
DTSTART;TZID=America/New_York:20260526T190000
DTEND;TZID=America/New_York:20260526T203000
DTSTAMP:20260423T042845
CREATED:20250808T154551Z
LAST-MODIFIED:20250808T154656Z
UID:1688-1779822000-1779827400@sexedlectures.org
SUMMARY:Certificate Program in Sexuality Education and Disability: Understanding Neurodiversity\, Intellectual Disabilities\, and Sexual Health
DESCRIPTION:This course explores sexuality\, identities\, sexual arousal\, response\, pleasure\, and relationships for individuals with neurodiversities and intellectual disabilities. It examines attitudes and beliefs about sexuality and people with disabilities and focuses on the benefits of sexuality education and the increased need for accessible knowledge in these populations. \nThe course covers working with parents and caregivers and provides participants with the skills to develop their own materials for working with these populations. Participants will receive 12 hours of (virtual) live and interactive lectures and discussions as well as 12 hours of pre-recorded content with the instructor and other participants.
URL:https://sexedlectures.org/calendar/certificate-program-in-sexuality-education-and-disability-understanding-neurodiversity-intellectual-disabilities-and-sexual-health-7/
CATEGORIES:Certificate Program
ORGANIZER;CN="SELS":MAILTO:info@sexedlectures.org
END:VEVENT
BEGIN:VEVENT
DTSTART;VALUE=DATE:20260527
DTEND;VALUE=DATE:20260528
DTSTAMP:20260423T042845
CREATED:20260205T221846Z
LAST-MODIFIED:20260205T221846Z
UID:2705-1779840000-1779926399@sexedlectures.org
SUMMARY:New England Sex Ed Conference
DESCRIPTION:The New England Sex Ed Conference\, presented by Partners in Sex Ed and the Sex Ed Lecture Series\, is a one-day conference for sex\, health and wellness educators on Wednesday May 27\, 2026. \nThe conference provides opportunities to network with other educators\, share ideas and learn best practices for teaching skills-based sexual health education. \nLast May\, attendees had an inspiring lineup of keynote speakers and engaging workshops that deepened their knowledge and equipped them with valuable tools to enhance their teaching and advocacy in the field.
URL:https://sexedlectures.org/calendar/new-england-sex-ed-conference/
LOCATION:Lasell University\, Newton\, MA\, United States
CATEGORIES:Retreat
ATTACH;FMTTYPE=image/png:https://sexedlectures.org/wp-content/uploads/2026/02/new_england_sex_ed_conference.png
ORGANIZER;CN="SELS":MAILTO:info@sexedlectures.org
END:VEVENT
BEGIN:VEVENT
DTSTART;TZID=America/New_York:20260528T190000
DTEND;TZID=America/New_York:20260528T203000
DTSTAMP:20260423T042845
CREATED:20250808T154553Z
LAST-MODIFIED:20250808T154657Z
UID:1689-1779994800-1780000200@sexedlectures.org
SUMMARY:Certificate Program in Sexuality Education and Disability: Understanding Neurodiversity\, Intellectual Disabilities\, and Sexual Health
DESCRIPTION:This course explores sexuality\, identities\, sexual arousal\, response\, pleasure\, and relationships for individuals with neurodiversities and intellectual disabilities. It examines attitudes and beliefs about sexuality and people with disabilities and focuses on the benefits of sexuality education and the increased need for accessible knowledge in these populations. \nThe course covers working with parents and caregivers and provides participants with the skills to develop their own materials for working with these populations. Participants will receive 12 hours of (virtual) live and interactive lectures and discussions as well as 12 hours of pre-recorded content with the instructor and other participants.
URL:https://sexedlectures.org/calendar/certificate-program-in-sexuality-education-and-disability-understanding-neurodiversity-intellectual-disabilities-and-sexual-health-8/
CATEGORIES:Certificate Program
ORGANIZER;CN="SELS":MAILTO:info@sexedlectures.org
END:VEVENT
END:VCALENDAR