BEGIN:VCALENDAR
VERSION:2.0
PRODID:-//Sex Ed Lecture Series - ECPv6.15.20//NONSGML v1.0//EN
CALSCALE:GREGORIAN
METHOD:PUBLISH
X-WR-CALNAME:Sex Ed Lecture Series
X-ORIGINAL-URL:https://sexedlectures.org
X-WR-CALDESC:Events for Sex Ed Lecture Series
REFRESH-INTERVAL;VALUE=DURATION:PT1H
X-Robots-Tag:noindex
X-PUBLISHED-TTL:PT1H
BEGIN:VTIMEZONE
TZID:America/New_York
BEGIN:DAYLIGHT
TZOFFSETFROM:-0500
TZOFFSETTO:-0400
TZNAME:EDT
DTSTART:20250309T070000
END:DAYLIGHT
BEGIN:STANDARD
TZOFFSETFROM:-0400
TZOFFSETTO:-0500
TZNAME:EST
DTSTART:20251102T060000
END:STANDARD
BEGIN:DAYLIGHT
TZOFFSETFROM:-0500
TZOFFSETTO:-0400
TZNAME:EDT
DTSTART:20260308T070000
END:DAYLIGHT
BEGIN:STANDARD
TZOFFSETFROM:-0400
TZOFFSETTO:-0500
TZNAME:EST
DTSTART:20261101T060000
END:STANDARD
BEGIN:DAYLIGHT
TZOFFSETFROM:-0500
TZOFFSETTO:-0400
TZNAME:EDT
DTSTART:20270314T070000
END:DAYLIGHT
BEGIN:STANDARD
TZOFFSETFROM:-0400
TZOFFSETTO:-0500
TZNAME:EST
DTSTART:20271107T060000
END:STANDARD
END:VTIMEZONE
BEGIN:VEVENT
DTSTART;TZID=America/New_York:20260204T190000
DTEND;TZID=America/New_York:20260204T200000
DTSTAMP:20260423T054034
CREATED:20260108T155750Z
LAST-MODIFIED:20260108T155751Z
UID:2315-1770231600-1770235200@sexedlectures.org
SUMMARY:Black History Month Live Networking Session Kick-Off
DESCRIPTION:Join us for a live networking session to kick off Black History Month and connect with colleagues\, community members\, and leaders in sexuality education. This opening gathering sets the tone for a month of learning\, connection\, and celebration.
URL:https://sexedlectures.org/calendar/black-history-month-live-networking-session-kick-off/
CATEGORIES:Lecture,Networking Session
ATTACH;FMTTYPE=image/png:https://sexedlectures.org/wp-content/uploads/2026/01/BHM-Opening-2.png
ORGANIZER;CN="SELS":MAILTO:info@sexedlectures.org
END:VEVENT
BEGIN:VEVENT
DTSTART;TZID=America/New_York:20260211T190000
DTEND;TZID=America/New_York:20260211T200000
DTSTAMP:20260423T054034
CREATED:20260108T160054Z
LAST-MODIFIED:20260108T160054Z
UID:2326-1770836400-1770840000@sexedlectures.org
SUMMARY:Lube 101: Slip\, Slide and Decide\, Find Your Perfect Glide
DESCRIPTION:This lecture explores the different types of lubricant\, including water based\, silicone based\, oil based and hybrid options. We will cover how they work\, what they are best used for\, body safety\, toy compatibility and common myths\, helping people choose lube that supports pleasure\, comfort and confidence.
URL:https://sexedlectures.org/calendar/lube-101-slip-slide-and-decide-find-your-perfect-glide/
CATEGORIES:Lecture
ATTACH;FMTTYPE=image/jpeg:https://sexedlectures.org/wp-content/uploads/2026/01/2.11.26-Amari-Leigh.jpg
ORGANIZER;CN="SELS":MAILTO:info@sexedlectures.org
END:VEVENT
BEGIN:VEVENT
DTSTART;TZID=America/New_York:20260218T190000
DTEND;TZID=America/New_York:20260218T200000
DTSTAMP:20260423T054034
CREATED:20260108T160235Z
LAST-MODIFIED:20260108T160235Z
UID:2329-1771441200-1771444800@sexedlectures.org
SUMMARY:Joy Is Not Extra: Black Women’s Sexual Pleasure as Radical Praxis
DESCRIPTION:This interactive webinar invites Black women and femmes to explore sexual pleasure as a practice of healing\, agency\, and liberation. Grounded in pleasure activism\, participants will reflect on embodied knowledge\, communication\, boundaries\, and intimacy\, unlearning sexual shame while envisioning pleasure as a collective praxis rooted in Black histories and futures.
URL:https://sexedlectures.org/calendar/joy-is-not-extra-black-womens-sexual-pleasure-as-radical-praxis/
CATEGORIES:Lecture
ATTACH;FMTTYPE=image/png:https://sexedlectures.org/wp-content/uploads/2026/01/2.18.26-Dr.-Seanna-Leath.png
ORGANIZER;CN="SELS":MAILTO:info@sexedlectures.org
END:VEVENT
BEGIN:VEVENT
DTSTART;TZID=America/New_York:20260225T190000
DTEND;TZID=America/New_York:20260225T200000
DTSTAMP:20260423T054034
CREATED:20260108T160409Z
LAST-MODIFIED:20260108T160409Z
UID:2331-1772046000-1772049600@sexedlectures.org
SUMMARY:Black History Month Grand Finale
DESCRIPTION:This live closing session brings the month’s programming together through guided discussion and reflection. Participants will revisit themes from the prerecorded webinars\, celebrate the Black-led businesses and organizations spotlighted throughout the month\, and reflect on how to carry this work forward beyond February.
URL:https://sexedlectures.org/calendar/black-history-month-grand-finale/
CATEGORIES:Lecture,Networking Session
ATTACH;FMTTYPE=image/png:https://sexedlectures.org/wp-content/uploads/2026/01/BHM-Dr.-Tanya-Bass-Grand-Finale.png
ORGANIZER;CN="SELS":MAILTO:info@sexedlectures.org
END:VEVENT
END:VCALENDAR