BEGIN:VCALENDAR
VERSION:2.0
PRODID:-//Sex Ed Lecture Series - ECPv6.15.20//NONSGML v1.0//EN
CALSCALE:GREGORIAN
METHOD:PUBLISH
X-WR-CALNAME:Sex Ed Lecture Series
X-ORIGINAL-URL:https://sexedlectures.org
X-WR-CALDESC:Events for Sex Ed Lecture Series
REFRESH-INTERVAL;VALUE=DURATION:PT1H
X-Robots-Tag:noindex
X-PUBLISHED-TTL:PT1H
BEGIN:VTIMEZONE
TZID:America/New_York
BEGIN:DAYLIGHT
TZOFFSETFROM:-0500
TZOFFSETTO:-0400
TZNAME:EDT
DTSTART:20240310T070000
END:DAYLIGHT
BEGIN:STANDARD
TZOFFSETFROM:-0400
TZOFFSETTO:-0500
TZNAME:EST
DTSTART:20241103T060000
END:STANDARD
BEGIN:DAYLIGHT
TZOFFSETFROM:-0500
TZOFFSETTO:-0400
TZNAME:EDT
DTSTART:20250309T070000
END:DAYLIGHT
BEGIN:STANDARD
TZOFFSETFROM:-0400
TZOFFSETTO:-0500
TZNAME:EST
DTSTART:20251102T060000
END:STANDARD
BEGIN:DAYLIGHT
TZOFFSETFROM:-0500
TZOFFSETTO:-0400
TZNAME:EDT
DTSTART:20260308T070000
END:DAYLIGHT
BEGIN:STANDARD
TZOFFSETFROM:-0400
TZOFFSETTO:-0500
TZNAME:EST
DTSTART:20261101T060000
END:STANDARD
END:VTIMEZONE
BEGIN:VEVENT
DTSTART;TZID=America/New_York:20251105T190000
DTEND;TZID=America/New_York:20251105T200000
DTSTAMP:20260423T100448
CREATED:20250923T194635Z
LAST-MODIFIED:20250923T194635Z
UID:1963-1762369200-1762372800@sexedlectures.org
SUMMARY:Relationship Games We Play: Guiding Good Talk\, Good Touch and Good Vibes
DESCRIPTION:This interactive\, immersive experience is designed to help attendees—whether individuals\, couples\, plurals\, or sex-positive professionals—deepen their understanding of intimacy\, nervous system awareness\, and pleasure communication through the TOUCHY/FEELY intimacy card game.
URL:https://sexedlectures.org/calendar/relationship-games-we-play-guiding-good-talk-good-touch-and-good-vibes/
CATEGORIES:Lecture
ATTACH;FMTTYPE=image/jpeg:https://sexedlectures.org/wp-content/uploads/2025/09/Candace-Johnson-11.5.25.jpg
ORGANIZER;CN="SELS":MAILTO:info@sexedlectures.org
END:VEVENT
BEGIN:VEVENT
DTSTART;TZID=America/New_York:20251112T190000
DTEND;TZID=America/New_York:20251112T200000
DTSTAMP:20260423T100448
CREATED:20250923T194511Z
LAST-MODIFIED:20250923T194912Z
UID:1961-1762974000-1762977600@sexedlectures.org
SUMMARY:From Pain to Pleasure: The Science of Healing Pelvic Floor Pain
DESCRIPTION:This session offers an in-depth look at evidence-based psychological and trauma-informed approaches for pelvic pain\, with practical strategies\, real-world cases\, and techniques to enhance pleasure and intimacy—empowering clinicians to support clients holistically and improve their sexual well-being and quality of life.
URL:https://sexedlectures.org/calendar/from-pain-to-pleasure-the-science-of-healing-pelvic-floor-pain/
CATEGORIES:Lecture
ATTACH;FMTTYPE=image/jpeg:https://sexedlectures.org/wp-content/uploads/2025/09/Cassandra-Kleefman-11.12.25.jpg
ORGANIZER;CN="SELS":MAILTO:info@sexedlectures.org
END:VEVENT
BEGIN:VEVENT
DTSTART;TZID=America/New_York:20251119T170000
DTEND;TZID=America/New_York:20251119T183000
DTSTAMP:20260423T100448
CREATED:20250913T210520Z
LAST-MODIFIED:20251118T212841Z
UID:1856-1763571600-1763577000@sexedlectures.org
SUMMARY:FREE Networking Session
DESCRIPTION:This invitation for a FREE networking session is open to everyone who has attended a Sex Ed Lecture Series webinar\, as well as new guests who sign up through our website. If you wish to be removed from our invitation list\, please contact info@sexedlectures.org. \nJoin us for an interactive session where you can network with other sexuality professionals! Engage in vibrant exchanges and forge connections with peers who share your passion for sex education. We will also explore the AMAZING free platform\, “Sex Ed To Go” (http://planned.org/sexedtogo)\, and learn about the impactful work of the Sex Education Alliance (https://sexeducationalliance.com). \nIf you can’t make it to the networking session\, be sure to check out our upcoming webinars at https://www.sexedlectures.org/upcoming-lectures/ and explore our certificate courses at https://sexedlectures.org/certificate-program/.
URL:https://sexedlectures.org/calendar/free-networking-session/
CATEGORIES:Lecture,Networking Session
ATTACH;FMTTYPE=image/jpeg:https://sexedlectures.org/wp-content/uploads/2025/09/Networking-Sessions-November-updated.jpg
ORGANIZER;CN="SELS":MAILTO:info@sexedlectures.org
END:VEVENT
END:VCALENDAR