BEGIN:VCALENDAR
VERSION:2.0
PRODID:-//Sex Ed Lecture Series - ECPv6.15.20//NONSGML v1.0//EN
CALSCALE:GREGORIAN
METHOD:PUBLISH
X-WR-CALNAME:Sex Ed Lecture Series
X-ORIGINAL-URL:https://sexedlectures.org
X-WR-CALDESC:Events for Sex Ed Lecture Series
REFRESH-INTERVAL;VALUE=DURATION:PT1H
X-Robots-Tag:noindex
X-PUBLISHED-TTL:PT1H
BEGIN:VTIMEZONE
TZID:America/New_York
BEGIN:DAYLIGHT
TZOFFSETFROM:-0500
TZOFFSETTO:-0400
TZNAME:EDT
DTSTART:20240310T070000
END:DAYLIGHT
BEGIN:STANDARD
TZOFFSETFROM:-0400
TZOFFSETTO:-0500
TZNAME:EST
DTSTART:20241103T060000
END:STANDARD
BEGIN:DAYLIGHT
TZOFFSETFROM:-0500
TZOFFSETTO:-0400
TZNAME:EDT
DTSTART:20250309T070000
END:DAYLIGHT
BEGIN:STANDARD
TZOFFSETFROM:-0400
TZOFFSETTO:-0500
TZNAME:EST
DTSTART:20251102T060000
END:STANDARD
BEGIN:DAYLIGHT
TZOFFSETFROM:-0500
TZOFFSETTO:-0400
TZNAME:EDT
DTSTART:20260308T070000
END:DAYLIGHT
BEGIN:STANDARD
TZOFFSETFROM:-0400
TZOFFSETTO:-0500
TZNAME:EST
DTSTART:20261101T060000
END:STANDARD
END:VTIMEZONE
BEGIN:VEVENT
DTSTART;TZID=America/New_York:20250902T190000
DTEND;TZID=America/New_York:20250902T203000
DTSTAMP:20260423T125103
CREATED:20250808T153318Z
LAST-MODIFIED:20250808T153842Z
UID:1646-1756839600-1756845000@sexedlectures.org
SUMMARY:Certificate Program in Sexuality Education and Consent: Core Concepts\, Frameworks\, and Teaching Tools for Instructors
DESCRIPTION:The Certificate Program in Sexuality Education and Consent explores the concepts of consent and body autonomy and their foundational importance to sexuality education. Learners will explore the many facets of and approaches to these concepts\, as well as how to teach about consent and build a consent-based education practice. \nWe will cover age- and developmentally-appropriate ways to teach about consent to young children\, teens\, college students\, and other adults. We will also discuss training parents/caregivers and teachers on practicing consent with the young people they support. Participants will receive 12 hours of (virtual) live and interactive lectures and discussions as well as 12 hours of pre-recorded content with the instructor and other experts.
URL:https://sexedlectures.org/calendar/certificate-program-in-sexuality-education-and-consent-core-concepts-frameworks-and-teaching-tools-for-instructors-9/
CATEGORIES:Certificate Program
ORGANIZER;CN="SELS":MAILTO:info@sexedlectures.org
END:VEVENT
BEGIN:VEVENT
DTSTART;TZID=America/New_York:20250903T190000
DTEND;TZID=America/New_York:20250903T200000
DTSTAMP:20260423T125103
CREATED:20250808T150555Z
LAST-MODIFIED:20250913T204831Z
UID:1620-1756926000-1756929600@sexedlectures.org
SUMMARY:Understanding Non-Monogamies
DESCRIPTION:Join us for a workshop on the intricacies of non-monogamies for educators\, mental health professionals\, and graduate students. This interactive workshop will include shared book discussions\, group activities\, film clip reviews\, and more all in the name of exploring and deepening understanding regarding non-monogamy.
URL:https://sexedlectures.org/calendar/understanding-non-monogamies/
CATEGORIES:Lecture
ORGANIZER;CN="SELS":MAILTO:info@sexedlectures.org
END:VEVENT
BEGIN:VEVENT
DTSTART;TZID=America/New_York:20250904T190000
DTEND;TZID=America/New_York:20250904T203000
DTSTAMP:20260423T125103
CREATED:20250808T153320Z
LAST-MODIFIED:20250808T153844Z
UID:1647-1757012400-1757017800@sexedlectures.org
SUMMARY:Certificate Program in Sexuality Education and Consent: Core Concepts\, Frameworks\, and Teaching Tools for Instructors
DESCRIPTION:The Certificate Program in Sexuality Education and Consent explores the concepts of consent and body autonomy and their foundational importance to sexuality education. Learners will explore the many facets of and approaches to these concepts\, as well as how to teach about consent and build a consent-based education practice. \nWe will cover age- and developmentally-appropriate ways to teach about consent to young children\, teens\, college students\, and other adults. We will also discuss training parents/caregivers and teachers on practicing consent with the young people they support. Participants will receive 12 hours of (virtual) live and interactive lectures and discussions as well as 12 hours of pre-recorded content with the instructor and other experts.
URL:https://sexedlectures.org/calendar/certificate-program-in-sexuality-education-and-consent-core-concepts-frameworks-and-teaching-tools-for-instructors-10/
CATEGORIES:Certificate Program
ORGANIZER;CN="SELS":MAILTO:info@sexedlectures.org
END:VEVENT
BEGIN:VEVENT
DTSTART;TZID=America/New_York:20250909T190000
DTEND;TZID=America/New_York:20250909T203000
DTSTAMP:20260423T125103
CREATED:20250808T153321Z
LAST-MODIFIED:20250808T153845Z
UID:1648-1757444400-1757449800@sexedlectures.org
SUMMARY:Certificate Program in Sexuality Education and Consent: Core Concepts\, Frameworks\, and Teaching Tools for Instructors
DESCRIPTION:The Certificate Program in Sexuality Education and Consent explores the concepts of consent and body autonomy and their foundational importance to sexuality education. Learners will explore the many facets of and approaches to these concepts\, as well as how to teach about consent and build a consent-based education practice. \nWe will cover age- and developmentally-appropriate ways to teach about consent to young children\, teens\, college students\, and other adults. We will also discuss training parents/caregivers and teachers on practicing consent with the young people they support. Participants will receive 12 hours of (virtual) live and interactive lectures and discussions as well as 12 hours of pre-recorded content with the instructor and other experts.
URL:https://sexedlectures.org/calendar/certificate-program-in-sexuality-education-and-consent-core-concepts-frameworks-and-teaching-tools-for-instructors-11/
CATEGORIES:Certificate Program
ORGANIZER;CN="SELS":MAILTO:info@sexedlectures.org
END:VEVENT
BEGIN:VEVENT
DTSTART;TZID=America/New_York:20250910T190000
DTEND;TZID=America/New_York:20250910T200000
DTSTAMP:20260423T125103
CREATED:20250808T150556Z
LAST-MODIFIED:20250808T150556Z
UID:1621-1757530800-1757534400@sexedlectures.org
SUMMARY:Using Feminist Pedagogy to Improve the Sex Ed Experience
DESCRIPTION:Feminist pedagogy acknowledges the lived experiences of students and emphasizes the sharing of stories and dialogue. This session will describe the use of feminist pedagogy to help sexuality educators become more comfortable with the uncomfortable\, and create an open environment where students feel cared for\, respected\, and able to learn.
URL:https://sexedlectures.org/calendar/using-feminist-pedagogy-to-improve-the-sex-ed-experience/
CATEGORIES:Lecture
ORGANIZER;CN="SELS":MAILTO:info@sexedlectures.org
END:VEVENT
BEGIN:VEVENT
DTSTART;TZID=America/New_York:20250911T190000
DTEND;TZID=America/New_York:20250911T203000
DTSTAMP:20260423T125103
CREATED:20250808T153322Z
LAST-MODIFIED:20250808T153846Z
UID:1649-1757617200-1757622600@sexedlectures.org
SUMMARY:Certificate Program in Sexuality Education and Consent: Core Concepts\, Frameworks\, and Teaching Tools for Instructors
DESCRIPTION:The Certificate Program in Sexuality Education and Consent explores the concepts of consent and body autonomy and their foundational importance to sexuality education. Learners will explore the many facets of and approaches to these concepts\, as well as how to teach about consent and build a consent-based education practice. \nWe will cover age- and developmentally-appropriate ways to teach about consent to young children\, teens\, college students\, and other adults. We will also discuss training parents/caregivers and teachers on practicing consent with the young people they support. Participants will receive 12 hours of (virtual) live and interactive lectures and discussions as well as 12 hours of pre-recorded content with the instructor and other experts.
URL:https://sexedlectures.org/calendar/certificate-program-in-sexuality-education-and-consent-core-concepts-frameworks-and-teaching-tools-for-instructors-12/
CATEGORIES:Certificate Program
ORGANIZER;CN="SELS":MAILTO:info@sexedlectures.org
END:VEVENT
BEGIN:VEVENT
DTSTART;TZID=America/New_York:20250916T190000
DTEND;TZID=America/New_York:20250916T203000
DTSTAMP:20260423T125103
CREATED:20250808T153324Z
LAST-MODIFIED:20250808T153846Z
UID:1650-1758049200-1758054600@sexedlectures.org
SUMMARY:Certificate Program in Sexuality Education and Consent: Core Concepts\, Frameworks\, and Teaching Tools for Instructors
DESCRIPTION:The Certificate Program in Sexuality Education and Consent explores the concepts of consent and body autonomy and their foundational importance to sexuality education. Learners will explore the many facets of and approaches to these concepts\, as well as how to teach about consent and build a consent-based education practice. \nWe will cover age- and developmentally-appropriate ways to teach about consent to young children\, teens\, college students\, and other adults. We will also discuss training parents/caregivers and teachers on practicing consent with the young people they support. Participants will receive 12 hours of (virtual) live and interactive lectures and discussions as well as 12 hours of pre-recorded content with the instructor and other experts.
URL:https://sexedlectures.org/calendar/certificate-program-in-sexuality-education-and-consent-core-concepts-frameworks-and-teaching-tools-for-instructors-13/
CATEGORIES:Certificate Program
ORGANIZER;CN="SELS":MAILTO:info@sexedlectures.org
END:VEVENT
BEGIN:VEVENT
DTSTART;TZID=America/New_York:20250917T190000
DTEND;TZID=America/New_York:20250917T200000
DTSTAMP:20260423T125103
CREATED:20250808T150556Z
LAST-MODIFIED:20250913T213852Z
UID:1622-1758135600-1758139200@sexedlectures.org
SUMMARY:How to Teach Teens about Relationship Abuse: A Film Screening & Discussion
DESCRIPTION:Relationship Safety Education is often missing from Sex Ed – this Lecture shows educators how to fill that gap. Adam Joel\, Survivor and Abuse Prevention Advocate\, will screen his short film The Last Drop\, followed by a discussion and Q&A about how to have The Relationship Safety Talk with teens.
URL:https://sexedlectures.org/calendar/how-to-teach-teens-about-relationship-abuse-a-film-screening-discussion/
CATEGORIES:Lecture
ATTACH;FMTTYPE=image/jpeg:https://sexedlectures.org/wp-content/uploads/2025/07/Adam-Joel-9.17.25.jpg
ORGANIZER;CN="SELS":MAILTO:info@sexedlectures.org
END:VEVENT
BEGIN:VEVENT
DTSTART;TZID=America/New_York:20250918T190000
DTEND;TZID=America/New_York:20250918T203000
DTSTAMP:20260423T125103
CREATED:20250808T153333Z
LAST-MODIFIED:20250808T153855Z
UID:1651-1758222000-1758227400@sexedlectures.org
SUMMARY:Certificate Program in Sexuality Education and Consent: Core Concepts\, Frameworks\, and Teaching Tools for Instructors
DESCRIPTION:The Certificate Program in Sexuality Education and Consent explores the concepts of consent and body autonomy and their foundational importance to sexuality education. Learners will explore the many facets of and approaches to these concepts\, as well as how to teach about consent and build a consent-based education practice. \nWe will cover age- and developmentally-appropriate ways to teach about consent to young children\, teens\, college students\, and other adults. We will also discuss training parents/caregivers and teachers on practicing consent with the young people they support. Participants will receive 12 hours of (virtual) live and interactive lectures and discussions as well as 12 hours of pre-recorded content with the instructor and other experts.
URL:https://sexedlectures.org/calendar/certificate-program-in-sexuality-education-and-consent-core-concepts-frameworks-and-teaching-tools-for-instructors-14/
CATEGORIES:Certificate Program
ORGANIZER;CN="SELS":MAILTO:info@sexedlectures.org
END:VEVENT
BEGIN:VEVENT
DTSTART;TZID=America/New_York:20250923T190000
DTEND;TZID=America/New_York:20250923T203000
DTSTAMP:20260423T125103
CREATED:20250808T153334Z
LAST-MODIFIED:20250808T153857Z
UID:1652-1758654000-1758659400@sexedlectures.org
SUMMARY:Certificate Program in Sexuality Education and Consent: Core Concepts\, Frameworks\, and Teaching Tools for Instructors
DESCRIPTION:The Certificate Program in Sexuality Education and Consent explores the concepts of consent and body autonomy and their foundational importance to sexuality education. Learners will explore the many facets of and approaches to these concepts\, as well as how to teach about consent and build a consent-based education practice. \nWe will cover age- and developmentally-appropriate ways to teach about consent to young children\, teens\, college students\, and other adults. We will also discuss training parents/caregivers and teachers on practicing consent with the young people they support. Participants will receive 12 hours of (virtual) live and interactive lectures and discussions as well as 12 hours of pre-recorded content with the instructor and other experts.
URL:https://sexedlectures.org/calendar/certificate-program-in-sexuality-education-and-consent-core-concepts-frameworks-and-teaching-tools-for-instructors-15/
CATEGORIES:Certificate Program
ORGANIZER;CN="SELS":MAILTO:info@sexedlectures.org
END:VEVENT
BEGIN:VEVENT
DTSTART;TZID=America/New_York:20250925T190000
DTEND;TZID=America/New_York:20250925T203000
DTSTAMP:20260423T125103
CREATED:20250808T153336Z
LAST-MODIFIED:20250808T153858Z
UID:1653-1758826800-1758832200@sexedlectures.org
SUMMARY:Certificate Program in Sexuality Education and Consent: Core Concepts\, Frameworks\, and Teaching Tools for Instructors
DESCRIPTION:The Certificate Program in Sexuality Education and Consent explores the concepts of consent and body autonomy and their foundational importance to sexuality education. Learners will explore the many facets of and approaches to these concepts\, as well as how to teach about consent and build a consent-based education practice. \nWe will cover age- and developmentally-appropriate ways to teach about consent to young children\, teens\, college students\, and other adults. We will also discuss training parents/caregivers and teachers on practicing consent with the young people they support. Participants will receive 12 hours of (virtual) live and interactive lectures and discussions as well as 12 hours of pre-recorded content with the instructor and other experts.
URL:https://sexedlectures.org/calendar/certificate-program-in-sexuality-education-and-consent-core-concepts-frameworks-and-teaching-tools-for-instructors-16/
CATEGORIES:Certificate Program
ORGANIZER;CN="SELS":MAILTO:info@sexedlectures.org
END:VEVENT
END:VCALENDAR