BEGIN:VCALENDAR
VERSION:2.0
PRODID:-//Sex Ed Lecture Series - ECPv6.15.20//NONSGML v1.0//EN
CALSCALE:GREGORIAN
METHOD:PUBLISH
X-WR-CALNAME:Sex Ed Lecture Series
X-ORIGINAL-URL:https://sexedlectures.org
X-WR-CALDESC:Events for Sex Ed Lecture Series
REFRESH-INTERVAL;VALUE=DURATION:PT1H
X-Robots-Tag:noindex
X-PUBLISHED-TTL:PT1H
BEGIN:VTIMEZONE
TZID:America/New_York
BEGIN:DAYLIGHT
TZOFFSETFROM:-0500
TZOFFSETTO:-0400
TZNAME:EDT
DTSTART:20240310T070000
END:DAYLIGHT
BEGIN:STANDARD
TZOFFSETFROM:-0400
TZOFFSETTO:-0500
TZNAME:EST
DTSTART:20241103T060000
END:STANDARD
BEGIN:DAYLIGHT
TZOFFSETFROM:-0500
TZOFFSETTO:-0400
TZNAME:EDT
DTSTART:20250309T070000
END:DAYLIGHT
BEGIN:STANDARD
TZOFFSETFROM:-0400
TZOFFSETTO:-0500
TZNAME:EST
DTSTART:20251102T060000
END:STANDARD
BEGIN:DAYLIGHT
TZOFFSETFROM:-0500
TZOFFSETTO:-0400
TZNAME:EDT
DTSTART:20260308T070000
END:DAYLIGHT
BEGIN:STANDARD
TZOFFSETFROM:-0400
TZOFFSETTO:-0500
TZNAME:EST
DTSTART:20261101T060000
END:STANDARD
END:VTIMEZONE
BEGIN:VEVENT
DTSTART;TZID=America/New_York:20250806T190000
DTEND;TZID=America/New_York:20250806T200000
DTSTAMP:20260423T142347
CREATED:20250731T191316Z
LAST-MODIFIED:20250807T185954Z
UID:1586-1754506800-1754510400@sexedlectures.org
SUMMARY:Drink Water & Mind Your Business: Self-Esteem and the Sexuality Field
DESCRIPTION:This lecture explores self-esteem as foundational to sexual wellness and education. Using Drink Water & Mind Your Business\, Dr. Oriowo examines how socio-cultural messaging\, family dynamics\, and learning theory shape sexual values\, intimacy skills\, and identity—highlighting community care and unlearning shame as tools for liberation.
URL:https://sexedlectures.org/calendar/drink-water-mind-your-business-self-esteem-and-the-sexuality-field/
CATEGORIES:Lecture
ORGANIZER;CN="SELS":MAILTO:info@sexedlectures.org
END:VEVENT
BEGIN:VEVENT
DTSTART;TZID=America/New_York:20250813T190000
DTEND;TZID=America/New_York:20250813T200000
DTSTAMP:20260423T142347
CREATED:20250731T192229Z
LAST-MODIFIED:20250807T185955Z
UID:1592-1755111600-1755115200@sexedlectures.org
SUMMARY:LGBTQ+ Competency for Health Educators and Providers
DESCRIPTION:This program teaches participants about working with LGBTQ+ individuals\, including the most current vocabulary and language\, best practices\, and how to support the specific sexual health education needs of LGBTQ+ individuals.
URL:https://sexedlectures.org/calendar/lgbtq-competency-for-health-educators-and-providers/
CATEGORIES:Lecture
ORGANIZER;CN="SELS":MAILTO:info@sexedlectures.org
END:VEVENT
BEGIN:VEVENT
DTSTART;TZID=America/New_York:20250820T190000
DTEND;TZID=America/New_York:20250820T190000
DTSTAMP:20260423T142347
CREATED:20250807T185956Z
LAST-MODIFIED:20250807T185956Z
UID:1613-1755716400-1755716400@sexedlectures.org
SUMMARY:Powerful Values Clarification Activities: From Middle School to Grad School
DESCRIPTION:This session showcases easily replicable activities designed to enhance self-esteem and foster values clarification across a wide range of educational levels—from middle school through graduate school.
URL:https://sexedlectures.org/calendar/powerful-values-clarification-activities-from-middle-school-to-grad-school/
CATEGORIES:Lecture
ORGANIZER;CN="SELS":MAILTO:info@sexedlectures.org
END:VEVENT
BEGIN:VEVENT
DTSTART;TZID=America/New_York:20250827T160000
DTEND;TZID=America/New_York:20250827T173000
DTSTAMP:20260423T142347
CREATED:20250808T150553Z
LAST-MODIFIED:20250913T215300Z
UID:1619-1756310400-1756315800@sexedlectures.org
SUMMARY:FREE Sex Ed Games and Networking Session
DESCRIPTION:This invitation for a FREE networking session is open to everyone who has attended a Sex Ed Lecture Series webinar\, as well as new guests who sign up through our website. If you wish to be removed from our invitation list\, please contact info@sexedlectures.org. \nJoin us for an interactive session where you can network with other sexuality professionals! Engage in vibrant exchanges and forge connections with peers who share your passion for sex education. We will also explore the AMAZING free platform\, “Sex Ed To Go” (http://planned.org/sexedtogo)\, and learn about the impactful work of the Sex Education Alliance (https://sexeducationalliance.com). \nIf you can’t make it to the networking session\, be sure to check out our upcoming webinars at https://www.sexedlectures.org/upcoming-lectures/ and explore our certificate courses at https://sexedlectures.org/certificate-program/.
URL:https://sexedlectures.org/calendar/free-sex-ed-games-and-networking-session/
CATEGORIES:Lecture,Networking Session
ORGANIZER;CN="SELS":MAILTO:info@sexedlectures.org
END:VEVENT
END:VCALENDAR